BEGIN:VCALENDAR
VERSION:2.0
PRODID:-//Pawsey Supercomputing Centre - ECPv5.1.4//NONSGML v1.0//EN
CALSCALE:GREGORIAN
METHOD:PUBLISH
X-WR-CALNAME:Pawsey Supercomputing Centre
X-ORIGINAL-URL:https://pawsey.org.au
X-WR-CALDESC:Events for Pawsey Supercomputing Centre
BEGIN:VTIMEZONE
TZID:Australia/Perth
BEGIN:STANDARD
TZOFFSETFROM:+0800
TZOFFSETTO:+0800
TZNAME:AWST
DTSTART:20210101T000000
END:STANDARD
END:VTIMEZONE
BEGIN:VEVENT
DTSTART;VALUE=DATE:20210302
DTEND;VALUE=DATE:20210305
DTSTAMP:20210226T134909
CREATED:20210211T044241Z
LAST-MODIFIED:20210217T051347Z
UID:15497-1614643200-1614902399@pawsey.org.au
SUMMARY:SupercomputingAsia 2021: ADAPTING TO COVID-19 AND BEYOND
DESCRIPTION:\n\n\n\n\nCo-organised by HPC centres from Singapore\, Japan and Australia\, SupercomputingAsia (SCA) 2021 is an annual conference that encompasses an umbrella of notable supercomputing and allied events in Asia. SCA21 will be held as a virtual conference from 2 to 4 March 2021. The key objective of SupercomputingAsia conference is to promote a vibrant and relevant HPC ecosystem in Asia. \nDelegates will be able to gain access to visionary insights from thought leaders in academia and industry\, optimum networking opportunities and the Supercomputing community in Asia. \nTo register for this event\, visit the official SCA 2021 page https://www.sc-asia.org/ \nA detailed copy of the conference program can be downloaded here. \nPawsey Participation\n(All times are listed in UTC+8) \nTuesday 2 March\, 4pm: HPC Centre Leaders’ Forum – Navigating HPC in the New Norm. \nModerated by Mr. Mark Stickells\, Executive Director \nWednesday 3 March\, 3.05pm: Australia’s First Quantum-Supercomputing Hub \nPresentation by Mr. Ugo Varetto\, Chief Technology Officer and Dr. Maciej Cytowski\, Head of Scientific Services \nWednesday 3 March\, 5.30pm: Industry Plenary by Pawsey Supercomputing Centre and NCI \nProfessor Debra J. Bernhardt (Searles) Australian Laureate Fellow\, Australian Institute for Bioengineering and Nanotechnology and\, School of Chemistry and Molecular Biosciences at the University of Queensland. \n\nThe role of high performance computation in materials modelling at the atomic level\n\nMark Gray\, Head of Scientific Platforms \n\nNext Generation Supercomputing at Pawsey Supercomputing Centre\n\nThursday 4 March\, 12.15pm: HPC in Education / What is HPC and where do I start? The Many Faces of HPC \n\n\n\n\n\n\n\n\n\n\n\nPresentation by Ms. Ann Backhaus\, Education and Training Manager \n\n\n\n\n\n\n
URL:https://pawsey.org.au/event/supercomputingasia-2021-adapting-to-covid-19-and-beyond/
ATTACH;FMTTYPE=image/jpeg:https://pawsey.org.au/wp-content/uploads/2021/02/Modified-screenshot-1024x753.jpg
END:VEVENT
BEGIN:VEVENT
DTSTART;TZID=Australia/Perth:20210308T123000
DTEND;TZID=Australia/Perth:20210308T143000
DTSTAMP:20210226T134909
CREATED:20210216T051409Z
LAST-MODIFIED:20210216T055912Z
UID:15507-1615206600-1615213800@pawsey.org.au
SUMMARY:STEM Event: Women using Technology - Data Science
DESCRIPTION:Join Pawsey’s Ann Backhaus\, Sarah Beecroft\, Stacey Reinke\, Pascal Elahi and others as they bring to life numbers\, information\, and data. \nLearn about data visualisation\, cloud computing\, and supercomputing. Meet STEM professionals and ask them why they do what they do\, and how they got there. \nFind out about the Square Kilometre Array Telescope\, Bioinformatics\, and Genomics. Find out what it is like to be a Pawsey Intern or work in this area. \nBring your own device (BYOD) for a hands-on activity! \nRegister here  \nTime:          12:30 – 2:30am \nBYOD:        Laptops\, tablets (iPads are NOT suitable) \nCatering:    BYO water bottles\, lunch\, and snacks. \nLocation:    Kinetic IT \nRegister here \nTransport:   Please make your own way there \nECU is proud to be a member of the Athena SWAN in Australia. This initiative promotes gender equality and encourages opportunities for females in STEM careers. \nFor further information please contact: michelle.ellis@ecu.edu.au \n
URL:https://pawsey.org.au/event/stem-event-women-using-technology-data-science/
LOCATION:Kinetic IT\, 30 The Esplanade\, Perth\, Western Australia\, 6000\, Australia
CATEGORIES:Cloud,Conference,Data,Seminar,Supercomputing,Training
ATTACH;FMTTYPE=image/jpeg:https://pawsey.org.au/wp-content/uploads/2019/08/magnusgreenbannerNOTEXT.jpg
END:VEVENT
END:VCALENDAR